BEGIN:VCALENDAR
METHOD:PUBLISH
PRODID:Data::ICal 0.13
VERSION:2.0
BEGIN:VEVENT
DESCRIPTION:[caption id=&quot;attachment_2101395&quot; align=&quot;aligncenter&quot; width=&quot;700&quot;] Source: Radio One Digital / Upload by:Reagan Elam-relam@radio-one.com[/caption]\n\n&nbsp;\nCLICK HERE
DTSTAMP:20260424T064903Z
DTSTART;TZID=America/Chicago:19700101T000000
DTEND;TZID=America/Chicago:19700101T000000
LOCATION:
SUMMARY:Fantastic Voyage
UID:2101396--
END:VEVENT
END:VCALENDAR
